BEGIN:VCALENDAR
VERSION:2.0
PRODID:-//Swindon Community Church - ECPv5.2.1//NONSGML v1.0//EN
CALSCALE:GREGORIAN
METHOD:PUBLISH
X-WR-CALNAME:Swindon Community Church
X-ORIGINAL-URL:https://www.swindoncc.org.uk
X-WR-CALDESC:Events for Swindon Community Church
BEGIN:VTIMEZONE
TZID:Europe/London
BEGIN:DAYLIGHT
TZOFFSETFROM:+0000
TZOFFSETTO:+0100
TZNAME:BST
DTSTART:20240331T010000
END:DAYLIGHT
BEGIN:STANDARD
TZOFFSETFROM:+0100
TZOFFSETTO:+0000
TZNAME:GMT
DTSTART:20241027T010000
END:STANDARD
END:VTIMEZONE
BEGIN:VEVENT
DTSTART;TZID=Europe/London:20241117T160000
DTEND;TZID=Europe/London:20241117T180000
DTSTAMP:20260419T234938
CREATED:20241107T140113Z
LAST-MODIFIED:20241114T131950Z
UID:8732-1731859200-1731866400@www.swindoncc.org.uk
SUMMARY:Sunday Afternoon Worship
DESCRIPTION:This Sunday’s meeting will be at 4pm at The Well in Abbey Meads\, and David Freeman will be joining us to continue our sermon series on re-digging the wells. \nWe plan to have a time of worship and teaching following by tea/coffee and bring and share tea 🥪 🥘 ☕️ 🎂 🍰  savoury and sweet items will be gratefully received. \nIf you have any questions or suggestions please get in touch
URL:https://www.swindoncc.org.uk/event/sunday-afternoon-worship-134/
LOCATION:The Well\, 4 Elstree Way\, Swindon\, SN25 4YX\, United Kingdom
END:VEVENT
END:VCALENDAR